BEGIN:VCALENDAR
VERSION:2.0
PRODID:-//Chattanooga Ballet - ECPv5.16.2//NONSGML v1.0//EN
CALSCALE:GREGORIAN
METHOD:PUBLISH
X-WR-CALNAME:Chattanooga Ballet
X-ORIGINAL-URL:https://chattballet.org
X-WR-CALDESC:Events for Chattanooga Ballet
BEGIN:VTIMEZONE
TZID:America/New_York
BEGIN:DAYLIGHT
TZOFFSETFROM:-0500
TZOFFSETTO:-0400
TZNAME:EDT
DTSTART:20210314T070000
END:DAYLIGHT
BEGIN:STANDARD
TZOFFSETFROM:-0400
TZOFFSETTO:-0500
TZNAME:EST
DTSTART:20211107T060000
END:STANDARD
END:VTIMEZONE
BEGIN:VEVENT
DTSTART;TZID=America/New_York:20210607T090000
DTEND;TZID=America/New_York:20210625T170000
DTSTAMP:20260424T045517
CREATED:20210303T174024Z
LAST-MODIFIED:20210303T174024Z
UID:2690-1623056400-1624640400@chattballet.org
SUMMARY:2021 Summer Intensive
DESCRIPTION:Chattanooga Ballet’s 2021 Summer Intensive\, a three week course with a two week option\, is open for registration. The Intensive is geared toward the serious ballet student looking to grow technically and artistically. Classes include: Ballet Technique\, Pointe/Variations\, Conditioning/Flexibility\, Dance History\, Contemporary\, Hip Hop\, and Broadway. Guest teachers include artists from New York City Ballet\, Boston Ballet and Ballet Memphis. Students participating in the intensive will learn choreography to be performed for video recording.\n\n\n\nAll classes will take place at our North Chattanooga location from June 7th – June 25th. A placement class will be held at 9AM on Monday June 7th & 14th for student’s placement in 1 of 2 groups. The two-week option is for either the first two weeks or last two weeks only (no first and third).\n\n\n\nFor more information\, please contact the Director of Education\, Nena Widtfeldt at info@chattballet.org.\nPlease note that space is limited.
URL:https://chattballet.org/event/2021-summer-intensive/
LOCATION:Chattanooga Ballet\, 817B North Market Street\, Chattanooga\, 37405\, United States
END:VEVENT
END:VCALENDAR