BEGIN:VCALENDAR
VERSION:2.0
PRODID:-//Chattanooga Ballet - ECPv5.16.2//NONSGML v1.0//EN
CALSCALE:GREGORIAN
METHOD:PUBLISH
X-WR-CALNAME:Chattanooga Ballet
X-ORIGINAL-URL:https://chattballet.org
X-WR-CALDESC:Events for Chattanooga Ballet
BEGIN:VTIMEZONE
TZID:America/New_York
BEGIN:DAYLIGHT
TZOFFSETFROM:-0500
TZOFFSETTO:-0400
TZNAME:EDT
DTSTART:20220313T070000
END:DAYLIGHT
BEGIN:STANDARD
TZOFFSETFROM:-0400
TZOFFSETTO:-0500
TZNAME:EST
DTSTART:20221106T060000
END:STANDARD
END:VTIMEZONE
BEGIN:VEVENT
DTSTART;TZID=America/New_York:20220108T110000
DTEND;TZID=America/New_York:20220108T130000
DTSTAMP:20260423T234131
CREATED:20211230T171416Z
LAST-MODIFIED:20211230T192315Z
UID:2814-1641639600-1641646800@chattballet.org
SUMMARY:Auditions for Cinderella
DESCRIPTION:Auditions for the spring production of Cinderella will take place on Saturday\, January 8th from 3:30 – 4:30p. Note: Auditionees must be in Intermediate 3 and above. Ladies should begin the audition en pointe. An online audition form will be emailed to student families. \nIt is important for all students to be aware there are a limited number of positions available. There will NOT be a costume fee. \n 
URL:https://chattballet.org/event/auditions-for-cinderella/
LOCATION:Chattanooga Ballet\, 817B North Market Street\, Chattanooga\, 37405\, United States
END:VEVENT
END:VCALENDAR