BEGIN:VCALENDAR
VERSION:2.0
PRODID:-//Chattanooga Ballet - ECPv5.16.2//NONSGML v1.0//EN
CALSCALE:GREGORIAN
METHOD:PUBLISH
X-WR-CALNAME:Chattanooga Ballet
X-ORIGINAL-URL:https://chattballet.org
X-WR-CALDESC:Events for Chattanooga Ballet
BEGIN:VTIMEZONE
TZID:America/New_York
BEGIN:DAYLIGHT
TZOFFSETFROM:-0500
TZOFFSETTO:-0400
TZNAME:EDT
DTSTART:20210314T070000
END:DAYLIGHT
BEGIN:STANDARD
TZOFFSETFROM:-0400
TZOFFSETTO:-0500
TZNAME:EST
DTSTART:20211107T060000
END:STANDARD
END:VTIMEZONE
BEGIN:VEVENT
DTSTART;TZID=America/New_York:20210314T123000
DTEND;TZID=America/New_York:20210314T160000
DTSTAMP:20260424T091348
CREATED:20210125T150614Z
LAST-MODIFIED:20210125T150614Z
UID:2680-1615725000-1615737600@chattballet.org
SUMMARY:Company Auditions!
DESCRIPTION:Chattanooga Ballet is seeking professionally experienced ballet dancers for their 2021-2022 season.  Contracts are for female and male dancers and are 40 weeks.  The audition will include a ballet class from 1:00-2:30\, followed by repertoire from 2:30-4:00.  Registration will begin at 12:30 and there is no cost for the audition.  Interested parties should be prepared to work on pointe in various styles and provide a headshot and résumé.  For more information or to pre-register please email Artistic Director Brian McSween at bmcsween@chattballet.org
URL:https://chattballet.org/event/company-auditions/
LOCATION:Chattanooga Ballet\, 817B North Market Street\, Chattanooga\, 37405\, United States
END:VEVENT
END:VCALENDAR