BEGIN:VCALENDAR
VERSION:2.0
PRODID:-//Chattanooga Ballet - ECPv5.16.2//NONSGML v1.0//EN
CALSCALE:GREGORIAN
METHOD:PUBLISH
X-WR-CALNAME:Chattanooga Ballet
X-ORIGINAL-URL:https://chattballet.org
X-WR-CALDESC:Events for Chattanooga Ballet
BEGIN:VTIMEZONE
TZID:America/New_York
BEGIN:DAYLIGHT
TZOFFSETFROM:-0500
TZOFFSETTO:-0400
TZNAME:EDT
DTSTART:20210314T070000
END:DAYLIGHT
BEGIN:STANDARD
TZOFFSETFROM:-0400
TZOFFSETTO:-0500
TZNAME:EST
DTSTART:20211107T060000
END:STANDARD
BEGIN:DAYLIGHT
TZOFFSETFROM:-0500
TZOFFSETTO:-0400
TZNAME:EDT
DTSTART:20220313T070000
END:DAYLIGHT
BEGIN:STANDARD
TZOFFSETFROM:-0400
TZOFFSETTO:-0500
TZNAME:EST
DTSTART:20221106T060000
END:STANDARD
END:VTIMEZONE
BEGIN:VEVENT
DTSTART;TZID=America/New_York:20211230T123000
DTEND;TZID=America/New_York:20220113T170000
DTSTAMP:20260423T223606
CREATED:20211230T175004Z
LAST-MODIFIED:20211230T175004Z
UID:2816-1640867400-1642093200@chattballet.org
SUMMARY:Kids Tap & Beginner Teen/Adult Added for Spring Semester!
DESCRIPTION:New Classes!\nKids Tap is for ages 8-12 on Monday evenings from 6:45-7:30pm for beginner Tap students. The benefits of tap to a ballet dancer are balance\, strength and rhythm\, along with providing news ways of exploring artistry. As always with our extra curricular classes\, there is a 50% discount on Tap tuition when taken alongside ballet classes. The wonderful Emily Sapere will be teaching this fun new addition! To register for Kids Tap click here. \nBeginner Teen/Adult is for those new to ballet looking to learn the fundamentals of ballet from the barre and across the floor. Dancers will learn the basics of ballet technique and focus on proper alignment\, flexibility\, coordination\, and strength. This class will be taught by former CHA Ballet company member Caroline Blair. This class will be held on Monday evenings from 7:15-8:30pm. To register for Beginner Teen/Adult click here.
URL:https://chattballet.org/event/kids-tap-beginner-teen-adult-added-for-spring-semester/
END:VEVENT
END:VCALENDAR