BEGIN:VCALENDAR
VERSION:2.0
PRODID:-//Chattanooga Ballet - ECPv5.16.2//NONSGML v1.0//EN
CALSCALE:GREGORIAN
METHOD:PUBLISH
X-WR-CALNAME:Chattanooga Ballet
X-ORIGINAL-URL:https://chattballet.org
X-WR-CALDESC:Events for Chattanooga Ballet
BEGIN:VTIMEZONE
TZID:America/New_York
BEGIN:DAYLIGHT
TZOFFSETFROM:-0500
TZOFFSETTO:-0400
TZNAME:EDT
DTSTART:20200308T070000
END:DAYLIGHT
BEGIN:STANDARD
TZOFFSETFROM:-0400
TZOFFSETTO:-0500
TZNAME:EST
DTSTART:20201101T060000
END:STANDARD
END:VTIMEZONE
BEGIN:VEVENT
DTSTART;TZID=America/New_York:20200809T150000
DTEND;TZID=America/New_York:20200809T170000
DTSTAMP:20260423T234009
CREATED:20200804T185312Z
LAST-MODIFIED:20200805T155102Z
UID:2623-1596985200-1596992400@chattballet.org
SUMMARY:OPEN HOUSE!
DESCRIPTION:Open House Sunday August 9th \n3:00-3:30PM  Creative Movement\, Pre-Ballet\, Level 1 \n3:45-4:15PM  Level 2\, Level 3\, Level 4 \n4:30-5:00PM Intermediate-Advanced\, Adult Levels\, Contemporary & Tap \n  \n*For the 2020-2021 school year\, Creative Movement\, Pre-Ballet\, Level 1 & 2 class sizes are being reduced to 9 students/class. All classes with less than 4 registered students are subject to cancellation.* \nAttention Signal Mountain! Our Signal Mountain classes will now be held at the Mountain Arts Community Center. More information will be provided before classes begin. We are very excited about this new partnership and beautiful space for our dancers! \nFall 2020 Refund Policy \nThe following is a change to our normal refund policy for the Chattanooga Ballet School. This policy is effective only for the Fall 2020 semester. \nChattanooga Ballet School will be open for the fall 2020 semester under our strict COVID-19 safety rules. Our refund policy states that tuition may only be refunded when requested in the first two weeks of the semester. This policy will continue for individuals who withdraw from classes. \nDue to the ongoing Covid-19 situation\, Chattanooga Ballet has added an important amendment. Should the school be forced to close for Covid related reasons\, all families will be offered a pro-rated refund if they choose not to continue with classes streamed on-line via the CB YouTube page. The refund will not include the $15 registration fee. \nIt is our hope that this policy\, along with our Covid-19 protocols\, offers you peace-of-mind for your child’s participation in fall classes. \nAs always\, we appreciate your patience and continued support. An official statement for Nutcracker 2020 will be made before our Fall semester begins. See you all very soon!
URL:https://chattballet.org/event/open-house/
LOCATION:Chattanooga Ballet\, 817B North Market Street\, Chattanooga\, 37405\, United States
END:VEVENT
END:VCALENDAR