BEGIN:VCALENDAR
VERSION:2.0
PRODID:-//Chattanooga Ballet - ECPv5.16.2//NONSGML v1.0//EN
CALSCALE:GREGORIAN
METHOD:PUBLISH
X-WR-CALNAME:Chattanooga Ballet
X-ORIGINAL-URL:https://chattballet.org
X-WR-CALDESC:Events for Chattanooga Ballet
BEGIN:VTIMEZONE
TZID:America/New_York
BEGIN:DAYLIGHT
TZOFFSETFROM:-0500
TZOFFSETTO:-0400
TZNAME:EDT
DTSTART:20210314T070000
END:DAYLIGHT
BEGIN:STANDARD
TZOFFSETFROM:-0400
TZOFFSETTO:-0500
TZNAME:EST
DTSTART:20211107T060000
END:STANDARD
END:VTIMEZONE
BEGIN:VEVENT
DTSTART;TZID=America/New_York:20210427T080000
DTEND;TZID=America/New_York:20210507T210000
DTSTAMP:20260424T075406
CREATED:20210427T192529Z
LAST-MODIFIED:20210427T192529Z
UID:2699-1619510400-1620421200@chattballet.org
SUMMARY:Student Performances - May 6/7
DESCRIPTION:Studio to Stage and Spring into Dance \nPerformances will take place on Thursday and Friday\, May 6th and 7th at the First Horizon Pavilion. \nTickets are $8 in advance and $10 at the door. Physical tickets will be required for entry. Without a ticket\, $10 will be charged at the door. Thank you so much for your understanding. \nCLICK HERE TO PURCHASE TICKETS \nIn addition to the students\, there will be a performance by company dancers Caroline Blair and Dillon Davis\, to celebrate Caroline’s retirement. \nOFFICIAL DATE & LOCATION CHANGE FOR SPRING RECITALS\nAll Spring shows will be at the First Tennessee Pavilion \nTHURSDAY MAY 6th\nStudio to Stage Performance #1: 7 – 8:30PM \n——————————— \nFRIDAY MAY 7th\nSpring into Dance Performance: 4:30-5:30pm \nStudio to Stage Performance #2: 7 – 8:30PM
URL:https://chattballet.org/event/student-performances-may-6-7/
LOCATION:First Horizon Pavilion\, 1826 Reggie White Blvd\, Chattanooga\, TN\, 37408\, United States
END:VEVENT
END:VCALENDAR