BEGIN:VCALENDAR
VERSION:2.0
PRODID:-//Chattanooga Ballet - ECPv5.16.2//NONSGML v1.0//EN
CALSCALE:GREGORIAN
METHOD:PUBLISH
X-WR-CALNAME:Chattanooga Ballet
X-ORIGINAL-URL:https://chattballet.org
X-WR-CALDESC:Events for Chattanooga Ballet
BEGIN:VTIMEZONE
TZID:America/New_York
BEGIN:DAYLIGHT
TZOFFSETFROM:-0500
TZOFFSETTO:-0400
TZNAME:EDT
DTSTART:20200308T070000
END:DAYLIGHT
BEGIN:STANDARD
TZOFFSETFROM:-0400
TZOFFSETTO:-0500
TZNAME:EST
DTSTART:20201101T060000
END:STANDARD
END:VTIMEZONE
BEGIN:VEVENT
DTSTART;TZID=America/New_York:20201024T170000
DTEND;TZID=America/New_York:20201024T183000
DTSTAMP:20260423T201237
CREATED:20200930T220859Z
LAST-MODIFIED:20200930T221405Z
UID:2648-1603558800-1603564200@chattballet.org
SUMMARY:White Oak Park Performance!
DESCRIPTION:Chattanooga Ballet’s White Oak Park Performance \nWhite Oak Park\, 798 Ben Miller Parkway\, Chattanooga\, TN 37415\nSaturday and Sunday\, October 24-25\, 5:00pm both days\nFREE!! to the public\, $20.00 suggested donation \nThe program will include world premiers\, guest artists and the School Ensemble. Works on\nthe program will vary from classical ballet to modern and will feature the Chattanooga Ballet\nprofessional company members\, guest artists from Joffrey Ballet\, Met Opera Ballet of NYC\, and Hubbard\nStreet Dance Chicago. Choreographers will be Artistic Director Brian McSween\, Director of Education\nNena Widtfeldt\, Connie Flachs and Ben Wardell.
URL:https://chattballet.org/event/white-oak-park-performance/
LOCATION:White Oak Park\, 2 Midvale Ave E\, Red Bank\, TN\, 37415\, United States
END:VEVENT
END:VCALENDAR